BEGIN:VCALENDAR
VERSION:2.0
PRODID:-//Section G3 - ECPv6.15.15//NONSGML v1.0//EN
CALSCALE:GREGORIAN
METHOD:PUBLISH
X-WR-CALNAME:Section G3
X-ORIGINAL-URL:https://g3.oa-scouting.org
X-WR-CALDESC:Events for Section G3
REFRESH-INTERVAL;VALUE=DURATION:PT1H
X-Robots-Tag:noindex
X-PUBLISHED-TTL:PT1H
BEGIN:VTIMEZONE
TZID:America/Chicago
BEGIN:DAYLIGHT
TZOFFSETFROM:-0600
TZOFFSETTO:-0500
TZNAME:CDT
DTSTART:20220313T080000
END:DAYLIGHT
BEGIN:STANDARD
TZOFFSETFROM:-0500
TZOFFSETTO:-0600
TZNAME:CST
DTSTART:20221106T070000
END:STANDARD
BEGIN:DAYLIGHT
TZOFFSETFROM:-0600
TZOFFSETTO:-0500
TZNAME:CDT
DTSTART:20230312T080000
END:DAYLIGHT
BEGIN:STANDARD
TZOFFSETFROM:-0500
TZOFFSETTO:-0600
TZNAME:CST
DTSTART:20231105T070000
END:STANDARD
BEGIN:DAYLIGHT
TZOFFSETFROM:-0600
TZOFFSETTO:-0500
TZNAME:CDT
DTSTART:20240310T080000
END:DAYLIGHT
BEGIN:STANDARD
TZOFFSETFROM:-0500
TZOFFSETTO:-0600
TZNAME:CST
DTSTART:20241103T070000
END:STANDARD
BEGIN:DAYLIGHT
TZOFFSETFROM:-0600
TZOFFSETTO:-0500
TZNAME:CDT
DTSTART:20250309T080000
END:DAYLIGHT
BEGIN:STANDARD
TZOFFSETFROM:-0500
TZOFFSETTO:-0600
TZNAME:CST
DTSTART:20251102T070000
END:STANDARD
BEGIN:DAYLIGHT
TZOFFSETFROM:-0600
TZOFFSETTO:-0500
TZNAME:CDT
DTSTART:20260308T080000
END:DAYLIGHT
BEGIN:STANDARD
TZOFFSETFROM:-0500
TZOFFSETTO:-0600
TZNAME:CST
DTSTART:20261101T070000
END:STANDARD
BEGIN:DAYLIGHT
TZOFFSETFROM:-0600
TZOFFSETTO:-0500
TZNAME:CDT
DTSTART:20270314T080000
END:DAYLIGHT
BEGIN:STANDARD
TZOFFSETFROM:-0500
TZOFFSETTO:-0600
TZNAME:CST
DTSTART:20271107T070000
END:STANDARD
END:VTIMEZONE
BEGIN:VEVENT
DTSTART;TZID=America/Chicago:20260417T170000
DTEND;TZID=America/Chicago:20260419T100000
DTSTAMP:20260425T145118
CREATED:20250928T201402Z
LAST-MODIFIED:20250928T201402Z
UID:11581-1776445200-1776592800@g3.oa-scouting.org
SUMMARY:Section Conclave
DESCRIPTION:Conclave
URL:https://g3.oa-scouting.org/oa-event/section-conclave/
LOCATION:George W. Pirtle Scout Reservation\, Country Road Rd 1241\, Gary City\, Texas\, 75840\, United States
END:VEVENT
BEGIN:VEVENT
DTSTART;TZID=America/Chicago:20260123T170000
DTEND;TZID=America/Chicago:20260125T100000
DTSTAMP:20260425T145118
CREATED:20250928T201559Z
LAST-MODIFIED:20250928T201559Z
UID:11583-1769187600-1769335200@g3.oa-scouting.org
SUMMARY:Section Triad
DESCRIPTION:Triad
URL:https://g3.oa-scouting.org/oa-event/section-triad/
LOCATION:George W. Pirtle Scout Reservation\, Country Road Rd 1241\, Gary City\, Texas\, 75840\, United States
END:VEVENT
BEGIN:VEVENT
DTSTART;VALUE=DATE:20260116
DTEND;VALUE=DATE:20260120
DTSTAMP:20260425T145118
CREATED:20250928T203526Z
LAST-MODIFIED:20250928T203526Z
UID:11614-1768521600-1768867199@g3.oa-scouting.org
SUMMARY:National Planning Meeting (Section Chief Only)
DESCRIPTION:https://oa-scouting.org/program/events/npm
URL:https://g3.oa-scouting.org/oa-event/national-planning-meeting-section-chief-only/
LOCATION:Dallas\, Texas\, Dallas\, TX\, United States
END:VEVENT
BEGIN:VEVENT
DTSTART;TZID=America/Chicago:20251107T170000
DTEND;TZID=America/Chicago:20251109T100000
DTSTAMP:20260425T145118
CREATED:20250928T202614Z
LAST-MODIFIED:20250928T203400Z
UID:11602-1762534800-1762682400@g3.oa-scouting.org
SUMMARY:National Leadership Seminar - Fort Worth
DESCRIPTION:NLS
URL:https://g3.oa-scouting.org/oa-event/national-leadership-seminar-fort-worth/
LOCATION:Longhorn Council Office\, 850 Cannon Dr\, Hurst\, TX\, 76054\, United States
END:VEVENT
BEGIN:VEVENT
DTSTART;TZID=America/Chicago:20251101T090000
DTEND;TZID=America/Chicago:20251101T170000
DTSTAMP:20260425T145118
CREATED:20250928T201839Z
LAST-MODIFIED:20250928T201839Z
UID:11585-1761987600-1762016400@g3.oa-scouting.org
SUMMARY:Fall Council of Chiefs
DESCRIPTION:Fall COC
URL:https://g3.oa-scouting.org/oa-event/fall-council-of-chiefs/
LOCATION:Longhorn Council Office\, 850 Cannon Dr\, Hurst\, TX\, 76054\, United States
END:VEVENT
BEGIN:VEVENT
DTSTART;TZID=America/Chicago:20251024T120000
DTEND;TZID=America/Chicago:20251026T100000
DTSTAMP:20260425T145118
CREATED:20250928T202357Z
LAST-MODIFIED:20250928T202357Z
UID:11594-1761307200-1761472800@g3.oa-scouting.org
SUMMARY:Section Officer Seminar (Officers Only)
DESCRIPTION:
URL:https://g3.oa-scouting.org/oa-event/section-officer-seminar-officers-only/
LOCATION:Seattle\, Washington\, Seattle\, WA\, United States
END:VEVENT
BEGIN:VEVENT
DTSTART;TZID=America/Chicago:20250808T140000
DTEND;TZID=America/Chicago:20250810T100000
DTSTAMP:20260425T145118
CREATED:20250928T203253Z
LAST-MODIFIED:20250928T203253Z
UID:11612-1754661600-1754820000@g3.oa-scouting.org
SUMMARY:Section Leadership Seminar (Officers Only)
DESCRIPTION:
URL:https://g3.oa-scouting.org/oa-event/section-leadership-seminar-officers-only/
LOCATION:Stephen F. Austin State University\, 1936 North St\, Nacogdoches\, TX\, 75965\, United States
END:VEVENT
BEGIN:VEVENT
DTSTART;VALUE=DATE:20250721
DTEND;VALUE=DATE:20250727
DTSTAMP:20260425T145118
CREATED:20250928T202919Z
LAST-MODIFIED:20250928T202919Z
UID:11604-1753056000-1753574399@g3.oa-scouting.org
SUMMARY:National Council of Chiefs
DESCRIPTION:https://oa-scouting.org/program/events/ncoc
URL:https://g3.oa-scouting.org/oa-event/national-council-of-chiefs/
LOCATION:Philmont Training Center\, 32 Orchard Cir\, Cimarron\, NM\, 87714\, United States
END:VEVENT
BEGIN:VEVENT
DTSTART;TZID=America/Chicago:20250425T170000
DTEND;TZID=America/Chicago:20250427T100000
DTSTAMP:20260425T145118
CREATED:20250929T210707Z
LAST-MODIFIED:20250929T210707Z
UID:11656-1745600400-1745748000@g3.oa-scouting.org
SUMMARY:Section Conclave
DESCRIPTION:Conclave
URL:https://g3.oa-scouting.org/oa-event/section-conclave-4/
LOCATION:Sid Richardson Scout Ranch\, Boy Scout Rd\, Bridgeport\, TX\, 76426\, United States
END:VEVENT
BEGIN:VEVENT
DTSTART;TZID=America/Chicago:20250117T170000
DTEND;TZID=America/Chicago:20250119T100000
DTSTAMP:20260425T145118
CREATED:20250929T210411Z
LAST-MODIFIED:20250929T210411Z
UID:11650-1737133200-1737280800@g3.oa-scouting.org
SUMMARY:Section Triad
DESCRIPTION:Triad
URL:https://g3.oa-scouting.org/oa-event/section-triad-4/
LOCATION:Sid Richardson Scout Ranch\, Boy Scout Rd\, Bridgeport\, TX\, 76426\, United States
END:VEVENT
BEGIN:VEVENT
DTSTART;TZID=America/Chicago:20241026T090000
DTEND;TZID=America/Chicago:20241026T170000
DTSTAMP:20260425T145118
CREATED:20250929T211105Z
LAST-MODIFIED:20250929T211105Z
UID:11663-1729933200-1729962000@g3.oa-scouting.org
SUMMARY:Fall Council of Chiefs
DESCRIPTION:Fall COC
URL:https://g3.oa-scouting.org/oa-event/fall-council-of-chiefs-3/
LOCATION:Longhorn Council Office\, 850 Cannon Dr\, Hurst\, TX\, 76054\, United States
END:VEVENT
BEGIN:VEVENT
DTSTART;VALUE=DATE:20240729
DTEND;VALUE=DATE:20240804
DTSTAMP:20260425T145118
CREATED:20250929T211332Z
LAST-MODIFIED:20250929T211332Z
UID:11668-1722211200-1722729599@g3.oa-scouting.org
SUMMARY:National Order of the Arrow Conference
DESCRIPTION:National OA Conference
URL:https://g3.oa-scouting.org/oa-event/national-order-of-the-arrow-conference/
LOCATION:CU Boulder\, 2249 Willard Loop Drive\, Boulder\, CO\, 80305\, United States
END:VEVENT
BEGIN:VEVENT
DTSTART;TZID=America/Chicago:20240419T170000
DTEND;TZID=America/Chicago:20240421T100000
DTSTAMP:20260425T145118
CREATED:20250929T210622Z
LAST-MODIFIED:20250929T210622Z
UID:11654-1713546000-1713693600@g3.oa-scouting.org
SUMMARY:Section Conclave
DESCRIPTION:Conclave
URL:https://g3.oa-scouting.org/oa-event/section-conclave-3/
LOCATION:Camp Constantin\, 3003 Park Rd 36\, Graford\, TX\, 76449\, United States
END:VEVENT
BEGIN:VEVENT
DTSTART;TZID=America/Chicago:20240119T170000
DTEND;TZID=America/Chicago:20240121T100000
DTSTAMP:20260425T145118
CREATED:20250929T210321Z
LAST-MODIFIED:20250929T210321Z
UID:11648-1705683600-1705831200@g3.oa-scouting.org
SUMMARY:Section Triad
DESCRIPTION:Triad
URL:https://g3.oa-scouting.org/oa-event/section-triad-3/
LOCATION:Camp Constantin\, 3003 Park Rd 36\, Graford\, TX\, 76449\, United States
END:VEVENT
BEGIN:VEVENT
DTSTART;TZID=America/Chicago:20231014T090000
DTEND;TZID=America/Chicago:20231014T170000
DTSTAMP:20260425T145118
CREATED:20250929T210904Z
LAST-MODIFIED:20250929T210904Z
UID:11658-1697274000-1697302800@g3.oa-scouting.org
SUMMARY:Fall Council of Chiefs
DESCRIPTION:Fall COC
URL:https://g3.oa-scouting.org/oa-event/fall-council-of-chiefs-2/
LOCATION:Circle Ten Council Office\, 8605 Harry Hines Boulevard\, Dallas\, TX\, 75247\, United States
END:VEVENT
BEGIN:VEVENT
DTSTART;TZID=America/Chicago:20230421T170000
DTEND;TZID=America/Chicago:20230423T100000
DTSTAMP:20260425T145118
CREATED:20250929T210534Z
LAST-MODIFIED:20250929T210534Z
UID:11652-1682096400-1682244000@g3.oa-scouting.org
SUMMARY:Section Conclave
DESCRIPTION:Conclave
URL:https://g3.oa-scouting.org/oa-event/section-conclave-2/
LOCATION:Camp Perkins\, 9970 Perkins Rd\, Wichita Falls\, TX\, 76305\, United States
END:VEVENT
BEGIN:VEVENT
DTSTART;TZID=America/Chicago:20230113T170000
DTEND;TZID=America/Chicago:20230115T100000
DTSTAMP:20260425T145118
CREATED:20250929T210225Z
LAST-MODIFIED:20250929T210225Z
UID:11646-1673629200-1673776800@g3.oa-scouting.org
SUMMARY:Section Triad
DESCRIPTION:Triad
URL:https://g3.oa-scouting.org/oa-event/section-triad-2/
LOCATION:Camp Perkins\, 9970 Perkins Rd\, Wichita Falls\, TX\, 76305\, United States
END:VEVENT
END:VCALENDAR